BEGIN:VCALENDAR
VERSION:2.0
PRODID:-//The Ace List - ECPv6.15.20//NONSGML v1.0//EN
CALSCALE:GREGORIAN
METHOD:PUBLISH
X-WR-CALNAME:The Ace List
X-ORIGINAL-URL:https://www.theacelist.com
X-WR-CALDESC:Events for The Ace List
REFRESH-INTERVAL;VALUE=DURATION:PT1H
X-Robots-Tag:noindex
X-PUBLISHED-TTL:PT1H
BEGIN:VTIMEZONE
TZID:Europe/Paris
BEGIN:DAYLIGHT
TZOFFSETFROM:+0100
TZOFFSETTO:+0200
TZNAME:CEST
DTSTART:20190331T010000
END:DAYLIGHT
BEGIN:STANDARD
TZOFFSETFROM:+0200
TZOFFSETTO:+0100
TZNAME:CET
DTSTART:20191027T010000
END:STANDARD
BEGIN:DAYLIGHT
TZOFFSETFROM:+0100
TZOFFSETTO:+0200
TZNAME:CEST
DTSTART:20200329T010000
END:DAYLIGHT
BEGIN:STANDARD
TZOFFSETFROM:+0200
TZOFFSETTO:+0100
TZNAME:CET
DTSTART:20201025T010000
END:STANDARD
BEGIN:DAYLIGHT
TZOFFSETFROM:+0100
TZOFFSETTO:+0200
TZNAME:CEST
DTSTART:20210328T010000
END:DAYLIGHT
BEGIN:STANDARD
TZOFFSETFROM:+0200
TZOFFSETTO:+0100
TZNAME:CET
DTSTART:20211031T010000
END:STANDARD
END:VTIMEZONE
BEGIN:VEVENT
DTSTART;TZID=Europe/Paris:20200910T150000
DTEND;TZID=Europe/Paris:20200910T160000
DTSTAMP:20260423T035844
CREATED:20200905T195728Z
LAST-MODIFIED:20200908T080106Z
UID:1109-1599750000-1599753600@www.theacelist.com
SUMMARY:Live: Robert-Jan Broer of Fratello Watches
DESCRIPTION:Robert-Jan Broer\, the founder of leading Dutch online watch magazine Fratello Watches and our own Alon Ben Joseph of Ace Jewelers are long-time friends. This promises to be a fun talk about anything and everything watches. Obviously they will touch upon their shared passion for Omega and Speedmasters as well.
URL:https://www.theacelist.com/event/live-robert-jan-broer-of-fratello-watches/
LOCATION:Facebook / YouTube / LinkedIn / Twitter
CATEGORIES:Watches
ATTACH;FMTTYPE=image/png:https://www.theacelist.com/wp-content/uploads/robert-jan-broer-fratello-watches.png
END:VEVENT
BEGIN:VEVENT
DTSTART;TZID=Europe/Paris:20200914T130000
DTEND;TZID=Europe/Paris:20200914T140000
DTSTAMP:20260423T035844
CREATED:20200831T141602Z
LAST-MODIFIED:20200903T105255Z
UID:1072-1600088400-1600092000@www.theacelist.com
SUMMARY:Live: Sebastien Gautier of Ulysse Nardin
DESCRIPTION:Sebastien Gautier\, Director Western Europe of Ulysse Nardin Watches\, and Alon Ben Joseph of Ace Jewelers talk about the amazing evolution the manufacture in Le Locle\, Switzerland is undergoing. The red line of the conversation is innovation\, design\, creativity and legacy. \nAce Jewelers is authorized dealer for Ulysse Nardin Watches.
URL:https://www.theacelist.com/event/live-sebastien-gautier-of-ulysse-nardin/
LOCATION:Facebook / YouTube / LinkedIn / Twitter
CATEGORIES:Watches
ATTACH;FMTTYPE=image/png:https://www.theacelist.com/wp-content/uploads/sebastien-gautier-ulysse-nardin.png
END:VEVENT
END:VCALENDAR