BEGIN:VCALENDAR
VERSION:2.0
PRODID:-//The Ace List - ECPv6.15.20//NONSGML v1.0//EN
CALSCALE:GREGORIAN
METHOD:PUBLISH
X-WR-CALNAME:The Ace List
X-ORIGINAL-URL:https://www.theacelist.com
X-WR-CALDESC:Events for The Ace List
REFRESH-INTERVAL;VALUE=DURATION:PT1H
X-Robots-Tag:noindex
X-PUBLISHED-TTL:PT1H
BEGIN:VTIMEZONE
TZID:Europe/Paris
BEGIN:DAYLIGHT
TZOFFSETFROM:+0100
TZOFFSETTO:+0200
TZNAME:CEST
DTSTART:20190331T010000
END:DAYLIGHT
BEGIN:STANDARD
TZOFFSETFROM:+0200
TZOFFSETTO:+0100
TZNAME:CET
DTSTART:20191027T010000
END:STANDARD
BEGIN:DAYLIGHT
TZOFFSETFROM:+0100
TZOFFSETTO:+0200
TZNAME:CEST
DTSTART:20200329T010000
END:DAYLIGHT
BEGIN:STANDARD
TZOFFSETFROM:+0200
TZOFFSETTO:+0100
TZNAME:CET
DTSTART:20201025T010000
END:STANDARD
BEGIN:DAYLIGHT
TZOFFSETFROM:+0100
TZOFFSETTO:+0200
TZNAME:CEST
DTSTART:20210328T010000
END:DAYLIGHT
BEGIN:STANDARD
TZOFFSETFROM:+0200
TZOFFSETTO:+0100
TZNAME:CET
DTSTART:20211031T010000
END:STANDARD
END:VTIMEZONE
BEGIN:VEVENT
DTSTART;TZID=Europe/Paris:20201112T160000
DTEND;TZID=Europe/Paris:20201112T170000
DTSTAMP:20260423T010618
CREATED:20201019T133705Z
LAST-MODIFIED:20201027T102323Z
UID:1347-1605196800-1605200400@www.theacelist.com
SUMMARY:Live: Guy Bove of TAG Heuer
DESCRIPTION:Guy Bove\, Creative Director of TAG Heuer sits down with Alon Ben Joseph of Ace Jewelers to talk about designing watches\, the Carrera\, the evolution at TAG Heuer and fonts. \nAce Jewelers is authorized dealer for TAG Heuer Watches.
URL:https://www.theacelist.com/event/live-guy-bove-of-tag-heuer/
LOCATION:Facebook / YouTube / LinkedIn / Twitter
CATEGORIES:Watches
ATTACH;FMTTYPE=image/png:https://www.theacelist.com/wp-content/uploads/banner-guy-bove-tag-heuer-2.png
END:VEVENT
BEGIN:VEVENT
DTSTART;TZID=Europe/Paris:20201119T140000
DTEND;TZID=Europe/Paris:20201119T150000
DTSTAMP:20260423T010618
CREATED:20201022T152201Z
LAST-MODIFIED:20201027T134151Z
UID:1356-1605794400-1605798000@www.theacelist.com
SUMMARY:Live: Xavier Ligero of Longines
DESCRIPTION:Xavier Ligero\, Head of Product Development of Longines\, sits down virtually with Alon Ben Joseph of Ace Jewelers to talk about producing and the process of designing Longines watches\, the all new Spirit collection\, the history and evolution of Longines. \nAce Jewelers is authorized dealer for Longines Watches.
URL:https://www.theacelist.com/event/live-xavier-ligero-of-longines/
LOCATION:Facebook / YouTube / LinkedIn / Twitter
CATEGORIES:Watches
ATTACH;FMTTYPE=image/png:https://www.theacelist.com/wp-content/uploads/banner-xavier-ligero-longines.png
END:VEVENT
END:VCALENDAR