BEGIN:VCALENDAR
VERSION:2.0
PRODID:-//The Ace List - ECPv6.15.20//NONSGML v1.0//EN
CALSCALE:GREGORIAN
METHOD:PUBLISH
X-ORIGINAL-URL:https://www.theacelist.com
X-WR-CALDESC:Events for The Ace List
REFRESH-INTERVAL;VALUE=DURATION:PT1H
X-Robots-Tag:noindex
X-PUBLISHED-TTL:PT1H
BEGIN:VTIMEZONE
TZID:Europe/Paris
BEGIN:DAYLIGHT
TZOFFSETFROM:+0100
TZOFFSETTO:+0200
TZNAME:CEST
DTSTART:20190331T010000
END:DAYLIGHT
BEGIN:STANDARD
TZOFFSETFROM:+0200
TZOFFSETTO:+0100
TZNAME:CET
DTSTART:20191027T010000
END:STANDARD
BEGIN:DAYLIGHT
TZOFFSETFROM:+0100
TZOFFSETTO:+0200
TZNAME:CEST
DTSTART:20200329T010000
END:DAYLIGHT
BEGIN:STANDARD
TZOFFSETFROM:+0200
TZOFFSETTO:+0100
TZNAME:CET
DTSTART:20201025T010000
END:STANDARD
BEGIN:DAYLIGHT
TZOFFSETFROM:+0100
TZOFFSETTO:+0200
TZNAME:CEST
DTSTART:20210328T010000
END:DAYLIGHT
BEGIN:STANDARD
TZOFFSETFROM:+0200
TZOFFSETTO:+0100
TZNAME:CET
DTSTART:20211031T010000
END:STANDARD
END:VTIMEZONE
BEGIN:VEVENT
DTSTART;TZID=Europe/Paris:20201203T153000
DTEND;TZID=Europe/Paris:20201203T163000
DTSTAMP:20260422T234259
CREATED:20201107T075826Z
LAST-MODIFIED:20201203T160451Z
UID:1480-1607009400-1607013000@www.theacelist.com
SUMMARY:Live: Caroline Gaspard of AKILLIS
DESCRIPTION:Caroline Gaspard is the founder and creative force of French fine jewelry brand AKILLIS. The Parisian AKILLIS has a total view on high-end jewelry and their own style. During the session with Alon Ben Joseph of Ace Jewelers they will explore the creating of the explosive “Bang Bang” collection\, but also the fun “Puzzle” collection\, the elegant “Python” collection\, the captive “Capture Moi” collection and the all new “Tattoo” collection that is equally designed for men as women. \nAce Jewelers is the exclusive authorized dealer in the Netherlands for AKILLIS.
URL:https://www.theacelist.com/event/live-caroline-gaspard-of-akillis/
LOCATION:Facebook / YouTube / LinkedIn / Twitter
CATEGORIES:Jewelry
ATTACH;FMTTYPE=image/png:https://www.theacelist.com/wp-content/uploads/banner-caroline-gaspard-akillis-jewelry-ace-list-jewelers.png
END:VEVENT
BEGIN:VEVENT
DTSTART;TZID=Europe/Paris:20201210T103000
DTEND;TZID=Europe/Paris:20201210T113000
DTSTAMP:20260422T234259
CREATED:20201103T100141Z
LAST-MODIFIED:20201103T102739Z
UID:1430-1607596200-1607599800@www.theacelist.com
SUMMARY:Live: Ariel Adams of aBlogtoWatch
DESCRIPTION:Ariel Adams founded aBlogtoWatch in 2007 as a means of sharing his passion. Since then\, according to ABTW\, it has become the highest trafficked blog on wristwatches. Based from California\, United States Ariel and his team do not solely focus on the high-end segment of watchmaking\, but have a democratic approach and cover the full spectrum of watches out there. Ariel will sit down with Alon Ben Joseph of Ace Jewelers to discuss the current state of the industry\, predict trends for the coming year and talk about their shared passion for independent and micro watch brands.
URL:https://www.theacelist.com/event/live-ariel-adams-of-ablogtowatch/
LOCATION:Facebook / YouTube / LinkedIn / Twitter
CATEGORIES:Watches
ATTACH;FMTTYPE=image/png:https://www.theacelist.com/wp-content/uploads/banner-ariel-adams-the-ace-list-ablogtowatch.png
END:VEVENT
END:VCALENDAR