BEGIN:VCALENDAR
VERSION:2.0
PRODID:-//The Ace List - ECPv6.15.20//NONSGML v1.0//EN
CALSCALE:GREGORIAN
METHOD:PUBLISH
X-WR-CALNAME:The Ace List
X-ORIGINAL-URL:https://www.theacelist.com
X-WR-CALDESC:Events for The Ace List
REFRESH-INTERVAL;VALUE=DURATION:PT1H
X-Robots-Tag:noindex
X-PUBLISHED-TTL:PT1H
BEGIN:VTIMEZONE
TZID:Europe/Paris
BEGIN:DAYLIGHT
TZOFFSETFROM:+0100
TZOFFSETTO:+0200
TZNAME:CEST
DTSTART:20200329T010000
END:DAYLIGHT
BEGIN:STANDARD
TZOFFSETFROM:+0200
TZOFFSETTO:+0100
TZNAME:CET
DTSTART:20201025T010000
END:STANDARD
BEGIN:DAYLIGHT
TZOFFSETFROM:+0100
TZOFFSETTO:+0200
TZNAME:CEST
DTSTART:20210328T010000
END:DAYLIGHT
BEGIN:STANDARD
TZOFFSETFROM:+0200
TZOFFSETTO:+0100
TZNAME:CET
DTSTART:20211031T010000
END:STANDARD
BEGIN:DAYLIGHT
TZOFFSETFROM:+0100
TZOFFSETTO:+0200
TZNAME:CEST
DTSTART:20220327T010000
END:DAYLIGHT
BEGIN:STANDARD
TZOFFSETFROM:+0200
TZOFFSETTO:+0100
TZNAME:CET
DTSTART:20221030T010000
END:STANDARD
END:VTIMEZONE
BEGIN:VEVENT
DTSTART;TZID=Europe/Paris:20210127T170000
DTEND;TZID=Europe/Paris:20210127T180000
DTSTAMP:20260422T221221
CREATED:20210114T163338Z
LAST-MODIFIED:20210127T200125Z
UID:1744-1611766800-1611770400@www.theacelist.com
SUMMARY:Live Season 2: Julien Tornare of Zenith Watches
DESCRIPTION:Julien Tornare\, CEO of ZENITH Watches\, joined Alon Ben Joseph of Ace Jewelers on September 8\, 2020 during season one. You can watch the episode here: S01E05. \nJulien and Alon had such fun the first time around\, that Alon re-invited Julien to come back on the show and he is the first guest of season two of The Ace List Live. During this live session Julien will take-off where the gentlemen left off things. And\, also present the novelties the manufacture in Le Locle\, Switzerland will produce in 2021. \nAce Jewelers is authorized dealer for Zenith Watches.
URL:https://www.theacelist.com/event/live-season-2-julien-tornare-of-zenith-watches/
LOCATION:Facebook / YouTube / LinkedIn / Twitter
CATEGORIES:Watches
ATTACH;FMTTYPE=image/png:https://www.theacelist.com/wp-content/uploads/poster-julien-tornare-2021-the-ace-list.png
END:VEVENT
END:VCALENDAR