BEGIN:VCALENDAR
VERSION:2.0
PRODID:-//The Ace List - ECPv6.15.20//NONSGML v1.0//EN
CALSCALE:GREGORIAN
METHOD:PUBLISH
X-WR-CALNAME:The Ace List
X-ORIGINAL-URL:https://www.theacelist.com
X-WR-CALDESC:Events for The Ace List
REFRESH-INTERVAL;VALUE=DURATION:PT1H
X-Robots-Tag:noindex
X-PUBLISHED-TTL:PT1H
BEGIN:VTIMEZONE
TZID:Europe/Paris
BEGIN:DAYLIGHT
TZOFFSETFROM:+0100
TZOFFSETTO:+0200
TZNAME:CEST
DTSTART:20200329T010000
END:DAYLIGHT
BEGIN:STANDARD
TZOFFSETFROM:+0200
TZOFFSETTO:+0100
TZNAME:CET
DTSTART:20201025T010000
END:STANDARD
BEGIN:DAYLIGHT
TZOFFSETFROM:+0100
TZOFFSETTO:+0200
TZNAME:CEST
DTSTART:20210328T010000
END:DAYLIGHT
BEGIN:STANDARD
TZOFFSETFROM:+0200
TZOFFSETTO:+0100
TZNAME:CET
DTSTART:20211031T010000
END:STANDARD
BEGIN:DAYLIGHT
TZOFFSETFROM:+0100
TZOFFSETTO:+0200
TZNAME:CEST
DTSTART:20220327T010000
END:DAYLIGHT
BEGIN:STANDARD
TZOFFSETFROM:+0200
TZOFFSETTO:+0100
TZNAME:CET
DTSTART:20221030T010000
END:STANDARD
END:VTIMEZONE
BEGIN:VEVENT
DTSTART;TZID=Europe/Paris:20210302T110000
DTEND;TZID=Europe/Paris:20210302T120000
DTSTAMP:20260422T190743
CREATED:20210209T095037Z
LAST-MODIFIED:20210301T124544Z
UID:1850-1614682800-1614686400@www.theacelist.com
SUMMARY:Live Season 2: Wei Koh of Revolution Magazine
DESCRIPTION:Wei Koh\, founder of Revolution Magazine will join Alon Ben Joseph of Ace Jewelers and this promises to be a very special episode. Wei is a rock star gentleman with a great sense of style and passion for wristwatches. He was a visionary when he started Revolution Magazine back in the day\, pre-Instagram they made amazing photo shoots already\, accompanied with qualitative copy. We are going to discuss:  the evolution of “Revolution” (no pun intended)\, watch collabs\, The Rake\, men’s fashion & style and the  current state of the watch industry.
URL:https://www.theacelist.com/event/live-season-2-wei-koh-of-revolution-magazine/
LOCATION:Facebook / YouTube / LinkedIn / Twitter
CATEGORIES:Watches
ATTACH;FMTTYPE=image/png:https://www.theacelist.com/wp-content/uploads/poster-WEI-KOH-REVOLUTION-2021-the-ace-list-2.png
END:VEVENT
BEGIN:VEVENT
DTSTART;TZID=Europe/Paris:20210312T130000
DTEND;TZID=Europe/Paris:20210312T140000
DTSTAMP:20260422T190743
CREATED:20210301T125100Z
LAST-MODIFIED:20210301T202549Z
UID:1913-1615554000-1615557600@www.theacelist.com
SUMMARY:Live Season 2: Sylvain Berneron of BREITLING
DESCRIPTION:Sylvain Berneron\, Creative Director of BREITLING sits down with Alon Ben Joseph of Ace Jewelers to talk about designing watches\, the Chronomat\, the evolution at BREITLING watches and many more. \nAce Jewelers is authorized dealer for Breitling Watches. \n#TheAceList #TheAceListLive #AceJewelers #Interview #Breitling #SylvainBerneron #Watches #Design
URL:https://www.theacelist.com/event/live-season-2-sylvain-berneron-of-breitling/
LOCATION:Facebook / YouTube / LinkedIn / Twitter
CATEGORIES:Watches
ATTACH;FMTTYPE=image/png:https://www.theacelist.com/wp-content/uploads/poster-sylvain-berneron-breitling-watches-2021-the-ace-list-2.png
END:VEVENT
BEGIN:VEVENT
DTSTART;TZID=Europe/Paris:20210325T170000
DTEND;TZID=Europe/Paris:20210325T180000
DTSTAMP:20260422T190743
CREATED:20210303T112928Z
LAST-MODIFIED:20210303T201151Z
UID:1924-1616691600-1616695200@www.theacelist.com
SUMMARY:Live Season 2: Serge Maillard of Europa Star Magazine
DESCRIPTION:Serge Maillard\, the publisher & CEO of Europa Star\, is the fourth generation to take the helm of the oldest trade magazine in the watch industry. Since 1927 Serge’s family has been publishing articles about all facets of the international watch industry. He will sit down with Ace Jewelers’ Alon Ben Joseph and take a journey through the history of watchmaking. Serge will also show us their  amazing archives they have been digitalizing. During the live session Serge will also give the viewers a gift: a limited period of time to access these digital archives plus three physical editions of the magazine.
URL:https://www.theacelist.com/event/live-season-2-serge-maillard-of-europa-star-magazine/
LOCATION:Facebook / YouTube / LinkedIn / Twitter
CATEGORIES:Watches
ATTACH;FMTTYPE=image/png:https://www.theacelist.com/wp-content/uploads/poster-serge-maillard-europa-star-magazine-2021-the-ace-list-2.png
END:VEVENT
END:VCALENDAR