BEGIN:VCALENDAR
VERSION:2.0
PRODID:-//The Ace List - ECPv6.15.20//NONSGML v1.0//EN
CALSCALE:GREGORIAN
METHOD:PUBLISH
X-WR-CALNAME:The Ace List
X-ORIGINAL-URL:https://www.theacelist.com
X-WR-CALDESC:Events for The Ace List
REFRESH-INTERVAL;VALUE=DURATION:PT1H
X-Robots-Tag:noindex
X-PUBLISHED-TTL:PT1H
BEGIN:VTIMEZONE
TZID:Europe/Paris
BEGIN:DAYLIGHT
TZOFFSETFROM:+0100
TZOFFSETTO:+0200
TZNAME:CEST
DTSTART:20200329T010000
END:DAYLIGHT
BEGIN:STANDARD
TZOFFSETFROM:+0200
TZOFFSETTO:+0100
TZNAME:CET
DTSTART:20201025T010000
END:STANDARD
BEGIN:DAYLIGHT
TZOFFSETFROM:+0100
TZOFFSETTO:+0200
TZNAME:CEST
DTSTART:20210328T010000
END:DAYLIGHT
BEGIN:STANDARD
TZOFFSETFROM:+0200
TZOFFSETTO:+0100
TZNAME:CET
DTSTART:20211031T010000
END:STANDARD
BEGIN:DAYLIGHT
TZOFFSETFROM:+0100
TZOFFSETTO:+0200
TZNAME:CEST
DTSTART:20220327T010000
END:DAYLIGHT
BEGIN:STANDARD
TZOFFSETFROM:+0200
TZOFFSETTO:+0100
TZNAME:CET
DTSTART:20221030T010000
END:STANDARD
END:VTIMEZONE
BEGIN:VEVENT
DTSTART;TZID=Europe/Paris:20210622T120000
DTEND;TZID=Europe/Paris:20210622T130000
DTSTAMP:20260422T142412
CREATED:20210527T081747Z
LAST-MODIFIED:20210528T113104Z
UID:2030-1624363200-1624366800@www.theacelist.com
SUMMARY:Live Season 2: Laura Bicego of NANIS Jewels
DESCRIPTION:Laura Bicego\, the founder of Italian fine jewelry brand NANIS\, joined Alon Ben Joseph of Ace Jewelers on November 5th\, 2020 during season one. You can watch the episode here: S01E16. \nThere is hardly anyone in the jewelry industry that is so vibrant and full of life as Laura is. During the first session together Ace Jewelers’ Alon Ben Joseph and Laura had such great fun\, this calls for a follow-up session. In this second season Laura will present the novelties her team and her created this year. It promises to be a fun episode again. \nAce Jewelers is authorized dealer for NANIS.
URL:https://www.theacelist.com/event/live-season-2-laura-bicego-of-nanis-jewels/
LOCATION:Facebook / YouTube / LinkedIn / Twitter
CATEGORIES:Jewelry
ATTACH;FMTTYPE=image/png:https://www.theacelist.com/wp-content/uploads/poster-laura-bicego-nanis-jewelry-2021-the-ace-list-2.png
END:VEVENT
BEGIN:VEVENT
DTSTART;TZID=Europe/Paris:20210629T160000
DTEND;TZID=Europe/Paris:20210629T170000
DTSTAMP:20260422T142412
CREATED:20210616T104627Z
LAST-MODIFIED:20210616T114412Z
UID:2047-1624982400-1624986000@www.theacelist.com
SUMMARY:Live Season 2: Caroline Gaspard of AKILLIS
DESCRIPTION:Caroline Gaspard\, the creative director and founder of French fine jewelry brand AKILLIS\, joined Alon Ben Joseph of Ace Jewelers on December 3rd\, 2020 during season one. You can watch the episode here: S01E20. \nDuring our second season Rock Lady Caroline Gaspard will sit down again with us to continue where we left of in the first season. In the previous episode we had the honor to witness her amazing energy and passion\, we can’t wait to ask what she has been up to ever since. And\, obviously to discuss the new designs Team Akillis and her have created since. Join Ace Jewelers’ Alon Ben Joseph and the driving force behind AKILLIS\, Caroline Gaspard\, during another live interview. \nAce Jewelers is the exclusive authorized dealer in the Netherlands for AKILLIS.
URL:https://www.theacelist.com/event/live-season-2-caroline-gaspard-of-akillis/
LOCATION:Facebook / YouTube / LinkedIn / Twitter
CATEGORIES:Jewelry
ATTACH;FMTTYPE=image/png:https://www.theacelist.com/wp-content/uploads/poster-caroline-gaspard-akillis-the-ace-list-2021-ace-jewelers.png
END:VEVENT
END:VCALENDAR