BEGIN:VCALENDAR
VERSION:2.0
PRODID:-//The Ace List - ECPv6.15.20//NONSGML v1.0//EN
CALSCALE:GREGORIAN
METHOD:PUBLISH
X-WR-CALNAME:The Ace List
X-ORIGINAL-URL:https://www.theacelist.com
X-WR-CALDESC:Events for The Ace List
REFRESH-INTERVAL;VALUE=DURATION:PT1H
X-Robots-Tag:noindex
X-PUBLISHED-TTL:PT1H
BEGIN:VTIMEZONE
TZID:Europe/Paris
BEGIN:DAYLIGHT
TZOFFSETFROM:+0100
TZOFFSETTO:+0200
TZNAME:CEST
DTSTART:20210328T010000
END:DAYLIGHT
BEGIN:STANDARD
TZOFFSETFROM:+0200
TZOFFSETTO:+0100
TZNAME:CET
DTSTART:20211031T010000
END:STANDARD
BEGIN:DAYLIGHT
TZOFFSETFROM:+0100
TZOFFSETTO:+0200
TZNAME:CEST
DTSTART:20220327T010000
END:DAYLIGHT
BEGIN:STANDARD
TZOFFSETFROM:+0200
TZOFFSETTO:+0100
TZNAME:CET
DTSTART:20221030T010000
END:STANDARD
BEGIN:DAYLIGHT
TZOFFSETFROM:+0100
TZOFFSETTO:+0200
TZNAME:CEST
DTSTART:20230326T010000
END:DAYLIGHT
BEGIN:STANDARD
TZOFFSETFROM:+0200
TZOFFSETTO:+0100
TZNAME:CET
DTSTART:20231029T010000
END:STANDARD
END:VTIMEZONE
BEGIN:VEVENT
DTSTART;TZID=Europe/Paris:20220602T140000
DTEND;TZID=Europe/Paris:20220602T150000
DTSTAMP:20260421T174232
CREATED:20220516T123239Z
LAST-MODIFIED:20220518T075247Z
UID:2219-1654178400-1654182000@www.theacelist.com
SUMMARY:Live Season 3: Roy Davidoff of Roy & Sacha Davidoff SA
DESCRIPTION:The Davidoff name is famous all around the world. Although we love Davidoff cigars here at Ace\, this episode our esteemed guest is Roy Davidoff\, also a jeweller that loves watches. Ace Jewelers’ Alon Ben Joseph childhood friends Roy & Sacha Davidoff have a long family history as jewellers as well. The brothers love watches. A few years ago they branched out of the family business and set up their own vintage watch boutique in Geneva: Roy & Sacha Davidoff SA. \nIn this episode Roy Davidoff will share his journey as diamantaire\, jeweller and watch expert. Obviously the passion for vintage and modern watches will be discussed. The two very passionate gentlemen will philosphize why pre-owned watches are so hot. And\, Roy will share his favorite hot spots in Geneva\, Switzerland. \nJoin us live and participate via Ace Jewelers social media channels:\n– YouTube: YouTube.com/AceJewelers\n– Facebook: Facebook.com/AceJewelers\n– LinkedIn: LinkedIn.com/company/Ace-Jewelers\n– Twitter: Twitter.com/AceJewelers
URL:https://www.theacelist.com/event/live-season-3-roy-davidoff-of-roy-sacha-davidoff-sa/
LOCATION:Facebook / YouTube / LinkedIn / Twitter
CATEGORIES:Watches
ATTACH;FMTTYPE=image/png:https://www.theacelist.com/wp-content/uploads/banner-roy-davidoff-watches-ace-list-jewelers-2.png
END:VEVENT
BEGIN:VEVENT
DTSTART;TZID=Europe/Paris:20220614T110000
DTEND;TZID=Europe/Paris:20220614T120000
DTSTAMP:20260421T174232
CREATED:20220502T105746Z
LAST-MODIFIED:20220613T182849Z
UID:2194-1655204400-1655208000@www.theacelist.com
SUMMARY:Live Season 3: Jiaxian Su of SJX Watches
DESCRIPTION:The founder of leading online watch magazine SJXwatches.com\, Mr. Jiaxian SU\, will sit down with Ace Jewelers own Mr. Alon BEN JOSEPH in this third season of The Ace List Live. \nSJX has been writing about watches since 1997 for all major Singaporean daily newspapers\, and started his own online publication in 2011 which grew to a global authority. For the last eleven years all of us at Ace Jewelers are great fans of SJXwatches.com as all the editors have a similar style to ours: minimalistic\, very technically driven and even bit geeky 🙂 \nThis promises to be a fun talk about watches in general\, the watch industry\, the differences between Asia & Europa\, the independent watchmakers and SJX’ journey as collector. \nJoin us live and participate via Ace Jewelers social media channels:\n– YouTube: YouTube.com/AceJewelers\n– Facebook: Facebook.com/AceJewelers\n– LinkedIn: LinkedIn.com/company/Ace-Jewelers\n– Twitter: Twitter.com/AceJewelers
URL:https://www.theacelist.com/event/live-season-3-jiaxian-su-of-sjx-watches/
LOCATION:Facebook / YouTube / LinkedIn / Twitter
CATEGORIES:Watches
ATTACH;FMTTYPE=image/png:https://www.theacelist.com/wp-content/uploads/banner-jiaxian-su-sjx-watches-the-ace-list-jewelers.png
END:VEVENT
BEGIN:VEVENT
DTSTART;TZID=Europe/Paris:20220628T120000
DTEND;TZID=Europe/Paris:20220628T130000
DTSTAMP:20260421T174232
CREATED:20220518T090138Z
LAST-MODIFIED:20220627T140039Z
UID:2239-1656417600-1656421200@www.theacelist.com
SUMMARY:Live Season 3: Davide Cerrato of HYT Watches
DESCRIPTION:One of the most influential watch designers in the industry\, Davide Cerrato\, has started a new chapter in his impressive career. Today he is the CEO & Creative Director of HYT Watches. An excellent reason to invite Davide back on the show. Last season he was our guest for the first time and it turned out to be a fun conversation with Ace Jewelers’ Alon Ben Joseph. You can watch episode S02E07 HERE. \nIn the previous episode we extensively discussed his evolution as watch designer. And\, his successes at Panerai\, Tudor and Montblanc. We are very curious what his vision and strategy is to take the ultra innovative and contemporary HYT Watches. Their DNA is made up of a new fluidic module encapsulating 10 years of learnings and improvements\, an evolution of the manufacture mechanical caliber developed with Eric Coudray delivering a perfect synchronization of fluidic and mechanical time. \nJoin us live and participate via Ace Jewelers social media channels:\n– YouTube: YouTube.com/AceJewelers\n– Facebook: Facebook.com/AceJewelers\n– LinkedIn: LinkedIn.com/company/Ace-Jewelers\n– Twitter: Twitter.com/AceJewelers
URL:https://www.theacelist.com/event/live-season-3-davide-cerrato-of-hyt-watches/
LOCATION:Facebook / YouTube / LinkedIn / Twitter
CATEGORIES:Watches
ATTACH;FMTTYPE=image/png:https://www.theacelist.com/wp-content/uploads/banner-davide-cerrato-hyt-watches-ace-list-jewelers-2.png
END:VEVENT
END:VCALENDAR