BEGIN:VCALENDAR
VERSION:2.0
PRODID:-//The Ace List - ECPv6.15.20//NONSGML v1.0//EN
CALSCALE:GREGORIAN
METHOD:PUBLISH
X-ORIGINAL-URL:https://www.theacelist.com
X-WR-CALDESC:Events for The Ace List
REFRESH-INTERVAL;VALUE=DURATION:PT1H
X-Robots-Tag:noindex
X-PUBLISHED-TTL:PT1H
BEGIN:VTIMEZONE
TZID:Europe/Paris
BEGIN:DAYLIGHT
TZOFFSETFROM:+0100
TZOFFSETTO:+0200
TZNAME:CEST
DTSTART:20210328T010000
END:DAYLIGHT
BEGIN:STANDARD
TZOFFSETFROM:+0200
TZOFFSETTO:+0100
TZNAME:CET
DTSTART:20211031T010000
END:STANDARD
BEGIN:DAYLIGHT
TZOFFSETFROM:+0100
TZOFFSETTO:+0200
TZNAME:CEST
DTSTART:20220327T010000
END:DAYLIGHT
BEGIN:STANDARD
TZOFFSETFROM:+0200
TZOFFSETTO:+0100
TZNAME:CET
DTSTART:20221030T010000
END:STANDARD
BEGIN:DAYLIGHT
TZOFFSETFROM:+0100
TZOFFSETTO:+0200
TZNAME:CEST
DTSTART:20230326T010000
END:DAYLIGHT
BEGIN:STANDARD
TZOFFSETFROM:+0200
TZOFFSETTO:+0100
TZNAME:CET
DTSTART:20231029T010000
END:STANDARD
END:VTIMEZONE
BEGIN:VEVENT
DTSTART;TZID=Europe/Paris:20220830T120000
DTEND;TZID=Europe/Paris:20220830T130000
DTSTAMP:20260421T135721
CREATED:20220608T105716Z
LAST-MODIFIED:20220713T121033Z
UID:2255-1661860800-1661864400@www.theacelist.com
SUMMARY:Live Season 3: Piero Marangon of NANIS Jewels
DESCRIPTION:Everyone that knows the contemporary Italian fine jewelry brand NANIS\, knows the driving & creative force behind the brand: ravishing Laura Bicego. We also know that behind every strong woman\, there is a strong man. Laura’s strong man is Piero Marangon\, the CEO of NANIS Jewels. The magic duo behind this luxurious and colorful brand are life partners and co-founded NANIS Jewels back in 1995. \nWhere Laura is responsible for the designs and the creativity of the company\, she also is unmistakably the face of the company too. As they are in such a symbiotic partnership\, Piero takes care of everything else within NANIS Jewels. Where creativity is very important\, craftsmanship & quality are equally important when manufacturing high-end handmade jewels. And\, this is Piero’s responsibility. \nAce Jewelers is a family owned and run business\, like NANIS Jewels. Ace Jewelers’ founder and father of current CEO used to do business with Laura’s father. So\, the relationship between NANIS and Ace is warm and runs deep. We are very humbled that Laura has come on the show twice already: \n\nSeason One\, Episode 16 – view here.\nSeason Two\, Episode 10 – view here.\n\nAnd\, although both our viewers and we would love to have her back on the show. We wanted to show the magic behind the designs: the craftmanship of NANIS. Piero is very humble and does not like to take the limelight\, but it took us a few seasons of arm twisting to get him on the show. He will sit down with Ace Jewelers’ Alon Ben Joseph and they will take a deep dive into what makes NANIS so special. \nAce Jewelers is authorized dealer for NANIS. \nJoin us live and participate via Ace Jewelers social media channels:\n– YouTube: YouTube.com/AceJewelers\n– Facebook: Facebook.com/AceJewelers\n– LinkedIn: LinkedIn.com/company/Ace-Jewelers\n– Twitter: Twitter.com/AceJewelers
URL:https://www.theacelist.com/event/live-season-3-piero-marangon-of-nanis-jewels/
LOCATION:Facebook / YouTube / LinkedIn / Twitter
CATEGORIES:Jewelry
ATTACH;FMTTYPE=image/png:https://www.theacelist.com/wp-content/uploads/banner-Piero-Marangon-NANIS-ace-list-jewelers.png
END:VEVENT
END:VCALENDAR