BEGIN:VCALENDAR
VERSION:2.0
PRODID:-//The Ace List - ECPv6.15.20//NONSGML v1.0//EN
CALSCALE:GREGORIAN
METHOD:PUBLISH
X-ORIGINAL-URL:https://www.theacelist.com
X-WR-CALDESC:Events for The Ace List
REFRESH-INTERVAL;VALUE=DURATION:PT1H
X-Robots-Tag:noindex
X-PUBLISHED-TTL:PT1H
BEGIN:VTIMEZONE
TZID:Europe/Paris
BEGIN:DAYLIGHT
TZOFFSETFROM:+0100
TZOFFSETTO:+0200
TZNAME:CEST
DTSTART:20210328T010000
END:DAYLIGHT
BEGIN:STANDARD
TZOFFSETFROM:+0200
TZOFFSETTO:+0100
TZNAME:CET
DTSTART:20211031T010000
END:STANDARD
BEGIN:DAYLIGHT
TZOFFSETFROM:+0100
TZOFFSETTO:+0200
TZNAME:CEST
DTSTART:20220327T010000
END:DAYLIGHT
BEGIN:STANDARD
TZOFFSETFROM:+0200
TZOFFSETTO:+0100
TZNAME:CET
DTSTART:20221030T010000
END:STANDARD
BEGIN:DAYLIGHT
TZOFFSETFROM:+0100
TZOFFSETTO:+0200
TZNAME:CEST
DTSTART:20230326T010000
END:DAYLIGHT
BEGIN:STANDARD
TZOFFSETFROM:+0200
TZOFFSETTO:+0100
TZNAME:CET
DTSTART:20231029T010000
END:STANDARD
END:VTIMEZONE
BEGIN:VEVENT
DTSTART;TZID=Europe/Paris:20221006T120000
DTEND;TZID=Europe/Paris:20221006T130000
DTSTAMP:20260421T091450
CREATED:20220909T094310Z
LAST-MODIFIED:20221005T213127Z
UID:2305-1665057600-1665061200@www.theacelist.com
SUMMARY:Live Season 3: Pim Koeslag of Christiaan van der Klaauw Watches
DESCRIPTION:Pim Koeslag is a Dutch Master Watchmaker after spending more than two decades in Switzerland came full circle and returned to the Netherlands to become both co-owner and Master Watchmaker at the epic haute horlogerie watch brand “Christiaan van der Klaauw”. \nPim’s journey after graduating at the Dutch watchmaking school started in Switzerland with the Frederique Constant Group where he has not developed many in-house calibres for the watch brand Frederique Constant\, but also co-founded the haute horlogerie brand “Ateliers de Monaco”. \nIn this episode Pim will sit down with Ace Jewelers’ co-owner Alon Ben Joseph and they will discuss Pim’s journey as watchmaker and obviously they will discuss the future of the master of planetarium watches: “CvdK Watches”. Join us live and ask all your questions that Pim will answer in real-time during the show. \n\nAce Jewelers is the exclusive authorized dealer for Christiaan van der Klaauw watches in Amsterdam. \n\nJoin us live and participate via Ace Jewelers social media channels:\n– YouTube: YouTube.com/AceJewelers\n– Facebook: Facebook.com/AceJewelers\n– LinkedIn: LinkedIn.com/company/Ace-Jewelers\n– Twitter: Twitter.com/AceJewelers
URL:https://www.theacelist.com/event/live-season-3-pim-koeslag-of-christiaan-van-der-klaauw-watches/
LOCATION:Facebook / YouTube / LinkedIn / Twitter
CATEGORIES:Watches
ATTACH;FMTTYPE=image/png:https://www.theacelist.com/wp-content/uploads/banner-pim-koeslag-christiaan-van-der-klaauw-watches-ace-list-jewelers.png
END:VEVENT
END:VCALENDAR