BEGIN:VCALENDAR
VERSION:2.0
PRODID:-//The Ace List - ECPv6.15.20//NONSGML v1.0//EN
CALSCALE:GREGORIAN
METHOD:PUBLISH
X-WR-CALNAME:The Ace List
X-ORIGINAL-URL:https://www.theacelist.com
X-WR-CALDESC:Events for The Ace List
REFRESH-INTERVAL;VALUE=DURATION:PT1H
X-Robots-Tag:noindex
X-PUBLISHED-TTL:PT1H
BEGIN:VTIMEZONE
TZID:Europe/Paris
BEGIN:DAYLIGHT
TZOFFSETFROM:+0100
TZOFFSETTO:+0200
TZNAME:CEST
DTSTART:20210328T010000
END:DAYLIGHT
BEGIN:STANDARD
TZOFFSETFROM:+0200
TZOFFSETTO:+0100
TZNAME:CET
DTSTART:20211031T010000
END:STANDARD
BEGIN:DAYLIGHT
TZOFFSETFROM:+0100
TZOFFSETTO:+0200
TZNAME:CEST
DTSTART:20220327T010000
END:DAYLIGHT
BEGIN:STANDARD
TZOFFSETFROM:+0200
TZOFFSETTO:+0100
TZNAME:CET
DTSTART:20221030T010000
END:STANDARD
BEGIN:DAYLIGHT
TZOFFSETFROM:+0100
TZOFFSETTO:+0200
TZNAME:CEST
DTSTART:20230326T010000
END:DAYLIGHT
BEGIN:STANDARD
TZOFFSETFROM:+0200
TZOFFSETTO:+0100
TZNAME:CET
DTSTART:20231029T010000
END:STANDARD
END:VTIMEZONE
BEGIN:VEVENT
DTSTART;TZID=Europe/Paris:20221103T120000
DTEND;TZID=Europe/Paris:20221103T130000
DTSTAMP:20260421T071831
CREATED:20220912T145225Z
LAST-MODIFIED:20220912T152351Z
UID:2312-1667476800-1667480400@www.theacelist.com
SUMMARY:Live Season 3: Niels Eggerding of Frederique Constant
DESCRIPTION:The CEO of Frederique Constant\, Mr. Niels Eggerding and Ace Jewelers’ CEO Alon Ben Joseph go way back and are friends for quite some time. Both Dutch men started in the watch industry in the Netherlands a while ago. \nDuring this live interview Alon will ask Niels to share his journey in the watch industry\, his evolution from the Dutch market to the mothership in Switzerland and obviously both gentlemen will discuss what’s new at Frederique Constant. \nJoin us live and participate via Ace Jewelers social media channels:\n– YouTube: YouTube.com/AceJewelers\n– Facebook: Facebook.com/AceJewelers\n– LinkedIn: LinkedIn.com/company/Ace-Jewelers\n– Twitter: Twitter.com/AceJewelers
URL:https://www.theacelist.com/event/live-season-3-niels-eggerding-of-frederique-constant/
LOCATION:Facebook / YouTube / LinkedIn / Twitter
CATEGORIES:Watches
ATTACH;FMTTYPE=image/png:https://www.theacelist.com/wp-content/uploads/banner-niels-eggerding-frederique-constant-watches-ace-list-jewelers.png
END:VEVENT
BEGIN:VEVENT
DTSTART;TZID=Europe/Paris:20221129T140000
DTEND;TZID=Europe/Paris:20221129T150000
DTSTAMP:20260421T071831
CREATED:20221109T195217Z
LAST-MODIFIED:20221109T200415Z
UID:2358-1669730400-1669734000@www.theacelist.com
SUMMARY:Live Season 3: Cedric Bellon of Cedric Bellon Watches
DESCRIPTION:Cedric Bellon is one of the most talented and most modest watch designers of our modern day. And\, he is a grand advocate of sustainability. That is the reason why Ace Jewelers’ CEO Alon Ben Joseph is a big fan of the person Cedric Bellon and all the watches his partners and him designed in the studio called Bellon & Partners. \nLast year Cedric Bellon (finally) ventured out and made his own watch. Not only was it the first wristwatch ever made of recycled steel\, but also created with watch start-up Watch Angels – a crowd funding platform for watchmakers. Obviously Alon Ben Joseph became a ‘Watch Angel’ as he supported the round and received a watch from the first batch bearing the Cedric Bellon brand name. He still wears it today. \nFrom a young age Cedric Bellon was fascinated by sciences\, nature and crafts. He first studied geology and then laureated in product design at L’Ecole de Design Nantes Atlantique. At the age of 26 he discovered watch design and sent some concepts to Swiss watch brands. Bell & Ross\, TAG Heuer and Longines gave him a chance and became his first clients. From then on\, he was hooked by horology and made watch design his full-time career in 2005. Cedric is an advocate for sustainability in the watch industry. \nThis year Cedric launched a second watch it is actually on sale right now with Watch Angels. In this episode the gentlemen will discuss Cedric’s evolution as a designer and how he wants to improve sustainability in the watchmaking sector. \nJoin us live and participate via Ace Jewelers social media channels:\n– YouTube: YouTube.com/AceJewelers\n– Facebook: Facebook.com/AceJewelers\n– LinkedIn: LinkedIn.com/company/Ace-Jewelers\n– Twitter: Twitter.com/AceJewelers
URL:https://www.theacelist.com/event/live-season-3-cedric-bellon-of-cedric-bellon-watches/
LOCATION:Facebook / YouTube / LinkedIn / Twitter
CATEGORIES:Watches
ATTACH;FMTTYPE=image/png:https://www.theacelist.com/wp-content/uploads/banner-cedric-bellon-watches-the-ace-list-jewelers.png
END:VEVENT
END:VCALENDAR